BEGIN:VCALENDAR
VERSION:2.0
PRODID:-//hacksw/handcal//NONSGML v1.0//EN
BEGIN:VEVENT
SUMMARY:Rando ROBECQ
UID:f31b2b26-7133-4b9b-bcd9-6137055bd504
DTSTART:20260427T220000Z
DTEND:20260428T220000Z
LOCATION:Localisation   
CATEGORIES:Sportif
STATUS:
DESCRIPTION:<p style="text-align:center;"><span
 style="font-size:36px;"><span style="color:#2980b9;"><u><b>Rando a
 ROBECQ </b></u></span></span></p>
 
 <p
 style="text-align:center;"><span style="font-size:36px;"><span
 style="color:#2980b9;"><u><b>variante courte circuit les
 T'chiens</b></u></span></span></p>
 
 <p><span
 style="font-size:18px;">organisee par Murielle et Charles
 L</span></p>
 
 <p><span
 style="font-size:18px;"><b>Depart:</b><b> </b><u>9h30</u>  place
 Victor Berthe a Robecq</span></p>
 
 <p><span
 style="font-size:18px;"><strong>Distance </strong> : 7
 km  </span></p>
 
 <p><span
 style="font-size:18px;"><strong>Duree</strong>: 2h00 
  </span></p>
 
 <p><span
 style="font-size:18px;"><u><strong>Inscriptions</strong></u>: 
 </span><span style="font-size:18px;">Murielle 06 88 98 00 99 ou
 Charles I. 06 82 59 05 24</span></p>
 
 <p><span
 style="font-size:18px;"><u><strong>Covoiturage </strong></u>: depart
 9h Place de Gaulle (a preciser a l’inscription)</span></p>
URL;VALUE=URI:https://bonpiedbonoeil62.sportsregions.fr/evenements/2026/04/28/rando-robecq-1987087
END:VEVENT
END:VCALENDAR
