BEGIN:VCALENDAR
VERSION:2.0
PRODID:-//hacksw/handcal//NONSGML v1.0//EN
BEGIN:VEVENT
SUMMARY:Rando Lapugnoy
UID:d61f8f77-812f-4b86-9c31-8653d9a327f0
DTSTART:20260420T220000Z
DTEND:20260421T220000Z
LOCATION:Localisation   
CATEGORIES:Sportif
STATUS:
DESCRIPTION:<p style="text-align:center;"><span
 style="font-size:36px;"><span style="color:#2980b9;"><u><b>Rando a
 Lapugnoy</b></u></span></span></p>
 
 <p
 style="text-align:center;"><span style="font-size:36px;"><span
 style="color:#2980b9;"><u><b>bois de
 Roquelaure </b></u></span></span></p>
 
 <p><span
 style="font-size:18px;">organisee par Luc et Guy</span></p>
 
 <p><span
 style="font-size:18px;"><b>Depart:</b><b> </b><u>9h30</u>  parking
 de la mairie de Lapugnoy</span></p>
 
 <p><span
 style="font-size:18px;"><strong>Distance </strong> : 8
 km  </span></p>
 
 <p><span
 style="font-size:18px;"><strong>Duree</strong>: 2h00 
  </span></p>
 
 <p><span
 style="font-size:18px;"><u><strong>Inscriptions</strong></u>: 
 </span><span style="font-size:20px;">Luc 06 72 22 37 20 ou Guy 06 66
 70 71 61</span></p>
 
 <p><span
 style="font-size:20px;"><u><strong>Covoiturage </strong></u>: depart
 9h Place de Gaulle (a preciser a l’inscription aupres de
 Guy)</span></p>
URL;VALUE=URI:https://bonpiedbonoeil62.sportsregions.fr/evenements/2026/04/21/rando-lapugnoy-1987088
END:VEVENT
END:VCALENDAR
