BEGIN:VCALENDAR
VERSION:2.0
PRODID:-//hacksw/handcal//NONSGML v1.0//EN
BEGIN:VEVENT
SUMMARY:JOURNEE ANNIVERSAIRE 25 ANS DU CLUB
UID:4b1269b0-a462-4b07-b2c5-55c726150d7e
DTSTART:20260411T220000Z
DTEND:20260412T220000Z
LOCATION:Localisation   
CATEGORIES:Sportif
STATUS:
DESCRIPTION:<p style="text-align:center;"><span
 style="font-size:24px;"><span style="color:#e74c3c;">JOURNEE
 ANNIVERSAIRE 25 ANS DU CLUB BPBO</span></span></p>
 
 <p><span
 style="font-size:20px;"><span style="color:#27ae60;">1) RANDO A
 HERMIN: variante du circuit les Ballots </span></span></p>
 
 <p><span
 style="font-size:18px;"><em>Le sentier permet de decouvrir les
 paysages vallonnes des collines de
 l'Artois</em> </span></p>
 
 <p><span style="font-size:18px;">guidee
 par Sophie, Elise et Guy</span></p>
 
 <p><span
 style="font-size:18px;">distance 8,5 km tres vallonne ( parcours ne
 convient pas aux personnes qui ont un gros soucis de sante ou
 problemes aux genoux pour les deniveles )  PREVOIR
 BATONS </span></p>
 
 <p><span style="font-size:18px;">duree:
 2h30</span></p>
 
 <p><span style="font-size:18px;">depart : parking
 salle des fetes de Hermin 9h00</span></p>
 
 <p><span
 style="font-size:20px;"><span style="color:#27ae60;">2) REPAS
 D'ANNIVERSAIRE </span></span></p>
 
 <p><span
 style="font-size:18px;"><font color="#000000">RDV 12h salle de la
 tannerie a Bethune</font></span></p>
 
 <p><span
 style="font-size:18px;"><font color="#000000">aperitif , entree,
 repas traiteur , dessert , cafe</font></span></p>
 
 <p><strong><span
 style="color:#e74c3c;"><span style="font-size:20px;">ATTENTION ne pas
 oublier de ramener vos assiettes, couverts , coupe et verres, et une
 boisson pour le repas.</span></span></strong></p>
 
 <p><span
 style="font-size:20px;"><span style="color:#27ae60;">3) APRES MIDI
 FESTIVE</span></span></p>
 
 <p><span style="font-size:18px;"><span
 style="color:#000000;">musique , danses, quizz musical, jeux en bois
 anciens, .......</span></span></p>
 
 <p><span
 style="font-size:18px;"><span style="color:#27ae60;">4) petite
 collation legere pour finir la
 journee</span></span></p>
 
 <p> </p>
 
 <p> </p>
URL;VALUE=URI:https://bonpiedbonoeil62.sportsregions.fr/evenements/2026/04/12/journee-anniversaire-25-ans-du-club-2439192
END:VEVENT
END:VCALENDAR
