BEGIN:VCALENDAR
VERSION:2.0
PRODID:-//hacksw/handcal//NONSGML v1.0//EN
BEGIN:VEVENT
SUMMARY:Rando Noyelles les vermelles
UID:24d6c14f-c2a6-4eea-9e95-ef0d881054a1
DTSTART:20260407T073000Z
DTEND:20260407T100000Z
LOCATION:Localisation   
CATEGORIES:Sportif
STATUS:
DESCRIPTION:<p style="text-align:center;"><span
 style="color:#27ae60;"><span style="font-size:36px;"><u>Rando
 Noyelles les vermelles/Annequin</u></span></span></p>
 
 <p><span
 style="font-size:14px;">organisee par  Jean Francois et
 Charles</span></p>
 
 <p><span
 style="font-size:14px;"><b>Depart:</b><b> </b><u>9h30</u>  </span>parking
 face au 20 rue de Picardie a Noyelles les Vermelles. </p>
 
 <p><span
 style="font-size:14px;"><strong>Distance </strong> :environ 8
 km  </span></p>
 
 <p><span
 style="font-size:14px;"><strong>Duree</strong>: 2h00 
  </span></p>
 
 <p><span style="font-size:14px;">La rando sera suivie
 de l'apero prepare par Corinne avec participation de
 3€.</span></p>
 
 <p><span style="font-size:14px;">Inscriptions rando
 par SMS aupres de Jean Francois au 0681434361.</span></p>
 
 <p><span
 style="font-size:14px;">Inscriptions apero par SMS aupres de Corinne
 au 0623432510 avant dimanche 20h.</span></p>
URL;VALUE=URI:https://bonpiedbonoeil62.sportsregions.fr/evenements/2026/04/07/rando-noyelles-les-vermelles-1633101
END:VEVENT
END:VCALENDAR
